BEGIN:VCALENDAR
VERSION:2.0
PRODID:-//Municipalidad Provincial de Islay - ECPv5.1.5//NONSGML v1.0//EN
CALSCALE:GREGORIAN
METHOD:PUBLISH
X-WR-CALNAME:Municipalidad Provincial de Islay
X-ORIGINAL-URL:https://munimollendo.gob.pe
X-WR-CALDESC:Eventos para Municipalidad Provincial de Islay
BEGIN:VTIMEZONE
TZID:America/Lima
BEGIN:STANDARD
TZOFFSETFROM:-0500
TZOFFSETTO:-0500
TZNAME:-05
DTSTART:20200101T000000
END:STANDARD
END:VTIMEZONE
BEGIN:VEVENT
DTSTART;TZID=America/Lima:20201106T113000
DTEND;TZID=America/Lima:20201106T113000
DTSTAMP:20260425T102813
CREATED:20201112T164805Z
LAST-MODIFIED:20201112T164805Z
UID:8455-1604662200-1604662200@munimollendo.gob.pe
SUMMARY:REUNION DE PLATAFORMA DE DEFENSA CIVIL CON LAS AUTORIDADES PARA COORDINAR EL DESARROLLO DEL SIMULACRO EN LA PLAYA
DESCRIPTION:REUNION DE PLATAFORMA DE DEFENSA CIVIL CON LAS AUTORIDADES PARA COORDINAR EL DESARROLLO DEL SIMULACRO EN LA PLAYA \n
URL:https://munimollendo.gob.pe/agenda/reunion-de-plataforma-de-defensa-civil-con-las-autoridades-para-coordinar-el-desarrollo-del-simulacro-en-la-playa/
END:VEVENT
END:VCALENDAR