BEGIN:VCALENDAR
VERSION:2.0
PRODID:-//Municipalidad Provincial de Islay - ECPv5.1.5//NONSGML v1.0//EN
CALSCALE:GREGORIAN
METHOD:PUBLISH
X-WR-CALNAME:Municipalidad Provincial de Islay
X-ORIGINAL-URL:https://munimollendo.gob.pe
X-WR-CALDESC:Eventos para Municipalidad Provincial de Islay
BEGIN:VTIMEZONE
TZID:America/Lima
BEGIN:STANDARD
TZOFFSETFROM:-0500
TZOFFSETTO:-0500
TZNAME:-05
DTSTART:20200101T000000
END:STANDARD
END:VTIMEZONE
BEGIN:VEVENT
DTSTART;TZID=America/Lima:20201207T020000
DTEND;TZID=America/Lima:20201207T170000
DTSTAMP:20260424T123000
CREATED:20210108T143607Z
LAST-MODIFIED:20210108T143607Z
UID:8824-1607306400-1607360400@munimollendo.gob.pe
SUMMARY:REUNION CON LOS FUNCIONARIOS DE PROVIAS PARA TRATAR SOBRE LA PROBLEMÁTICA OCURRIDA RECIENTEMENTE EN LA COSTANERA TRAMO MEJIA
DESCRIPTION:REUNION CON LOS FUNCIONARIOS DE PROVIAS PARA TRATAR SOBRE LA PROBLEMÁTICA OCURRIDA RECIENTEMENTE EN LA COSTANERA TRAMO MEJIA \n
URL:https://munimollendo.gob.pe/agenda/reunion-con-los-funcionarios-de-provias-para-tratar-sobre-la-problematica-ocurrida-recientemente-en-la-costanera-tramo-mejia/
END:VEVENT
END:VCALENDAR