BEGIN:VCALENDAR
VERSION:2.0
PRODID:-//Municipalidad Provincial de Islay - ECPv5.1.5//NONSGML v1.0//EN
CALSCALE:GREGORIAN
METHOD:PUBLISH
X-WR-CALNAME:Municipalidad Provincial de Islay
X-ORIGINAL-URL:https://munimollendo.gob.pe
X-WR-CALDESC:Eventos para Municipalidad Provincial de Islay
BEGIN:VTIMEZONE
TZID:America/Lima
BEGIN:STANDARD
TZOFFSETFROM:-0500
TZOFFSETTO:-0500
TZNAME:-05
DTSTART:20200101T000000
END:STANDARD
END:VTIMEZONE
BEGIN:VEVENT
DTSTART;TZID=America/Lima:20200929T160000
DTEND;TZID=America/Lima:20200929T160000
DTSTAMP:20260425T115135
CREATED:20201110T194239Z
LAST-MODIFIED:20201110T194239Z
UID:8322-1601395200-1601395200@munimollendo.gob.pe
SUMMARY:REUNION CON EL SR. NILO Y LA SRA. ROCIO PLAN VERANO 2021
DESCRIPTION:REUNION CON EL SR. NILO Y LA SRA. ROCIO PLAN VERANO 2021 \n
URL:https://munimollendo.gob.pe/agenda/reunion-con-el-sr-nilo-y-la-sra-rocio-plan-verano-2021/
END:VEVENT
END:VCALENDAR