BEGIN:VCALENDAR
VERSION:2.0
PRODID:-//Municipalidad Provincial de Islay - ECPv5.1.5//NONSGML v1.0//EN
CALSCALE:GREGORIAN
METHOD:PUBLISH
X-WR-CALNAME:Municipalidad Provincial de Islay
X-ORIGINAL-URL:https://munimollendo.gob.pe
X-WR-CALDESC:Eventos para Municipalidad Provincial de Islay
BEGIN:VTIMEZONE
TZID:America/Lima
BEGIN:STANDARD
TZOFFSETFROM:-0500
TZOFFSETTO:-0500
TZNAME:-05
DTSTART:20200101T000000
END:STANDARD
END:VTIMEZONE
BEGIN:VEVENT
DTSTART;TZID=America/Lima:20201104T100000
DTEND;TZID=America/Lima:20201104T100000
DTSTAMP:20260420T202338
CREATED:20201112T164531Z
LAST-MODIFIED:20201112T164531Z
UID:8449-1604484000-1604484000@munimollendo.gob.pe
SUMMARY:REUNION CON EL JEFE ZONAL DE COFOPRI (SOBRE TITULACION Y FORMULACION DE PREDIOS\, Y CATASTRO URBANO)
DESCRIPTION:REUNION CON EL JEFE ZONAL DE COFOPRI (SOBRE TITULACION Y FORMULACION DE PREDIOS\, Y CATASTRO URBANO) \n
URL:https://munimollendo.gob.pe/agenda/reunion-con-el-jefe-zonal-de-cofopri-sobre-titulacion-y-formulacion-de-predios-y-catastro-urbano/
END:VEVENT
END:VCALENDAR