BEGIN:VCALENDAR
VERSION:2.0
PRODID:-//Municipalidad Provincial de Islay - ECPv5.1.5//NONSGML v1.0//EN
CALSCALE:GREGORIAN
METHOD:PUBLISH
X-WR-CALNAME:Municipalidad Provincial de Islay
X-ORIGINAL-URL:https://munimollendo.gob.pe
X-WR-CALDESC:Eventos para Municipalidad Provincial de Islay
BEGIN:VTIMEZONE
TZID:America/Lima
BEGIN:STANDARD
TZOFFSETFROM:-0500
TZOFFSETTO:-0500
TZNAME:-05
DTSTART:20200101T000000
END:STANDARD
END:VTIMEZONE
BEGIN:VEVENT
DTSTART;TZID=America/Lima:20201207T120000
DTEND;TZID=America/Lima:20201207T140000
DTSTAMP:20260423T150357
CREATED:20210108T143517Z
LAST-MODIFIED:20210108T143517Z
UID:8822-1607342400-1607349600@munimollendo.gob.pe
SUMMARY:REUNION CON EL GERENTE DE SEGURIDAD CIUDADANA Y EL GERENTE DE MEDIO AMBIENTE Y SERVICIOS
DESCRIPTION:REUNION CON EL GERENTE DE SEGURIDAD CIUDADANA Y EL GERENTE DE MEDIO AMBIENTE Y SERVICIOS \n
URL:https://munimollendo.gob.pe/agenda/reunion-con-el-gerente-de-seguridad-ciudadana-y-el-gerente-de-medio-ambiente-y-servicios/
END:VEVENT
END:VCALENDAR