BEGIN:VCALENDAR
VERSION:2.0
PRODID:-//Municipalidad Provincial de Islay - ECPv5.1.5//NONSGML v1.0//EN
CALSCALE:GREGORIAN
METHOD:PUBLISH
X-WR-CALNAME:Municipalidad Provincial de Islay
X-ORIGINAL-URL:https://munimollendo.gob.pe
X-WR-CALDESC:Eventos para Municipalidad Provincial de Islay
BEGIN:VTIMEZONE
TZID:America/Lima
BEGIN:STANDARD
TZOFFSETFROM:-0500
TZOFFSETTO:-0500
TZNAME:-05
DTSTART:20200101T000000
END:STANDARD
END:VTIMEZONE
BEGIN:VEVENT
DTSTART;TZID=America/Lima:20201203T153000
DTEND;TZID=America/Lima:20201203T153000
DTSTAMP:20260425T182055
CREATED:20210108T135626Z
LAST-MODIFIED:20210108T142915Z
UID:8809-1607009400-1607009400@munimollendo.gob.pe
SUMMARY:REUNION CON ADMINISTRACION
DESCRIPTION:REUNION CON ADMINISTRACION \n
URL:https://munimollendo.gob.pe/agenda/reunion-con-administracion/
END:VEVENT
END:VCALENDAR