BEGIN:VCALENDAR
VERSION:2.0
PRODID:-//Municipalidad Provincial de Islay - ECPv5.1.5//NONSGML v1.0//EN
CALSCALE:GREGORIAN
METHOD:PUBLISH
X-WR-CALNAME:Municipalidad Provincial de Islay
X-ORIGINAL-URL:https://munimollendo.gob.pe
X-WR-CALDESC:Eventos para Municipalidad Provincial de Islay
BEGIN:VTIMEZONE
TZID:America/Lima
BEGIN:STANDARD
TZOFFSETFROM:-0500
TZOFFSETTO:-0500
TZNAME:-05
DTSTART:20190101T000000
END:STANDARD
END:VTIMEZONE
BEGIN:VEVENT
DTSTART;TZID=America/Lima:20190501T100000
DTEND;TZID=America/Lima:20190501T113000
DTSTAMP:20260424T004341
CREATED:20191022T190642Z
LAST-MODIFIED:20191022T190642Z
UID:3914-1556704800-1556710200@munimollendo.gob.pe
SUMMARY:Misa de fiesta de la virgen de Chapi
DESCRIPTION:Misa de fiesta de la virgen de Chapi\, seguido de procesión y recibimiento en la municipalidad \n
URL:https://munimollendo.gob.pe/agenda/misa-de-fiesta-de-la-virgen-de-chapi/
END:VEVENT
END:VCALENDAR