BEGIN:VCALENDAR
VERSION:2.0
PRODID:-//Municipalidad Provincial de Islay - ECPv5.1.5//NONSGML v1.0//EN
CALSCALE:GREGORIAN
METHOD:PUBLISH
X-WR-CALNAME:Municipalidad Provincial de Islay
X-ORIGINAL-URL:https://munimollendo.gob.pe
X-WR-CALDESC:Eventos para Municipalidad Provincial de Islay
BEGIN:VTIMEZONE
TZID:America/Lima
BEGIN:STANDARD
TZOFFSETFROM:-0500
TZOFFSETTO:-0500
TZNAME:-05
DTSTART:20190101T000000
END:STANDARD
END:VTIMEZONE
BEGIN:VEVENT
DTSTART;TZID=America/Lima:20190518T180000
DTEND;TZID=America/Lima:20190518T193000
DTSTAMP:20260422T214130
CREATED:20191022T193906Z
LAST-MODIFIED:20191022T193906Z
UID:3973-1558202400-1558207800@munimollendo.gob.pe
SUMMARY:Invitación y designación como padrino de obra de la asociación de posesionarios de la 2da etapa mirador del sur
DESCRIPTION:Invitación y designación como padrino de obra de la asociación de posesionarios de la 2da etapa mirador del sur\, por acuerdo de asamblea el alcalde fue designado como padrino de la culminación del alumbrado del A.H. en su local social de la Punta de Bombón. \n
URL:https://munimollendo.gob.pe/agenda/invitacion-y-designacion-como-padrino-de-obra-de-la-asociacion-de-posesionarios-de-la-2da-etapa-mirador-del-sur/
END:VEVENT
END:VCALENDAR