BEGIN:VCALENDAR
VERSION:2.0
PRODID:-//Municipalidad Provincial de Islay - ECPv5.1.5//NONSGML v1.0//EN
CALSCALE:GREGORIAN
METHOD:PUBLISH
X-WR-CALNAME:Municipalidad Provincial de Islay
X-ORIGINAL-URL:https://munimollendo.gob.pe
X-WR-CALDESC:Eventos para Municipalidad Provincial de Islay
BEGIN:VTIMEZONE
TZID:America/Lima
BEGIN:STANDARD
TZOFFSETFROM:-0500
TZOFFSETTO:-0500
TZNAME:-05
DTSTART:20190101T000000
END:STANDARD
END:VTIMEZONE
BEGIN:VEVENT
DTSTART;TZID=America/Lima:20191024T090000
DTEND;TZID=America/Lima:20191024T100000
DTSTAMP:20260425T194038
CREATED:20200107T173331Z
LAST-MODIFIED:20200107T173331Z
UID:5202-1571907600-1571911200@munimollendo.gob.pe
SUMMARY:Inauguración de seminario del indeci
DESCRIPTION:Inauguración de seminario del indeci \n
URL:https://munimollendo.gob.pe/agenda/inauguracion-de-seminario-del-indeci/
LOCATION:Estación Cultural\, Mollendo\, Islay\, Perú
END:VEVENT
END:VCALENDAR