BEGIN:VCALENDAR
VERSION:2.0
PRODID:-//Municipalidad Provincial de Islay - ECPv5.1.5//NONSGML v1.0//EN
CALSCALE:GREGORIAN
METHOD:PUBLISH
X-WR-CALNAME:Municipalidad Provincial de Islay
X-ORIGINAL-URL:https://munimollendo.gob.pe
X-WR-CALDESC:Eventos para Municipalidad Provincial de Islay
BEGIN:VTIMEZONE
TZID:America/Lima
BEGIN:STANDARD
TZOFFSETFROM:-0500
TZOFFSETTO:-0500
TZNAME:-05
DTSTART:20200101T000000
END:STANDARD
END:VTIMEZONE
BEGIN:VEVENT
DTSTART;TZID=America/Lima:20201028T140000
DTEND;TZID=America/Lima:20201028T140000
DTSTAMP:20260420T015207
CREATED:20201110T230138Z
LAST-MODIFIED:20201110T230138Z
UID:8414-1603893600-1603893600@munimollendo.gob.pe
SUMMARY:II REUNION INTERSECTORIAL POR REACTIVACION ECONOMICA IV ETAPA ORGANIZADA POR EL DR. NESTOR MONSTESINOS CON EL FIN DE EVITAR LA PROPAGACION DEL COVID-19 EN LA ESTACION CULTURAL DE MOLLENDO
DESCRIPTION:II REUNION INTERSECTORIAL POR REACTIVACION ECONOMICA IV ETAPA ORGANIZADA POR EL DR. NESTOR MONSTESINOS CON EL FIN DE EVITAR LA PROPAGACION DEL COVID-19 EN LA ESTACION CULTURAL DE MOLLENDO \n
URL:https://munimollendo.gob.pe/agenda/ii-reunion-intersectorial-por-reactivacion-economica-iv-etapa-organizada-por-el-dr-nestor-monstesinos-con-el-fin-de-evitar-la-propagacion-del-covid-19-en-la-estacion-cultural-de-mollendo/
END:VEVENT
END:VCALENDAR