BEGIN:VCALENDAR
VERSION:2.0
PRODID:-//Municipalidad Provincial de Islay - ECPv5.1.5//NONSGML v1.0//EN
CALSCALE:GREGORIAN
METHOD:PUBLISH
X-WR-CALNAME:Municipalidad Provincial de Islay
X-ORIGINAL-URL:https://munimollendo.gob.pe
X-WR-CALDESC:Eventos para Municipalidad Provincial de Islay
BEGIN:VTIMEZONE
TZID:America/Lima
BEGIN:STANDARD
TZOFFSETFROM:-0500
TZOFFSETTO:-0500
TZNAME:-05
DTSTART:20200101T000000
END:STANDARD
END:VTIMEZONE
BEGIN:VEVENT
DTSTART;TZID=America/Lima:20200120T200000
DTEND;TZID=America/Lima:20200120T200000
DTSTAMP:20260423T230612
CREATED:20200818T210537Z
LAST-MODIFIED:20200818T210537Z
UID:6723-1579550400-1579550400@munimollendo.gob.pe
SUMMARY:FIESTA LUAU EN PLAYAS DE MOLLENDO CON LOS ARTISTAS QUE PARTICIPARON EN EL FESTIVAL DE DANZAS MOLLENDO
DESCRIPTION:FIESTA LUAU EN PLAYAS DE MOLLENDO CON LOS ARTISTAS QUE PARTICIPARON EN EL FESTIVAL DE DANZAS MOLLENDO \n
URL:https://munimollendo.gob.pe/agenda/fiesta-luau-en-playas-de-mollendo-con-los-artistas-que-participaron-en-el-festival-de-danzas-mollendo/
LOCATION:playas\, Mollendo\, Islay\, Perú
END:VEVENT
END:VCALENDAR