BEGIN:VCALENDAR
VERSION:2.0
PRODID:-//Municipalidad Provincial de Islay - ECPv5.1.5//NONSGML v1.0//EN
CALSCALE:GREGORIAN
METHOD:PUBLISH
X-WR-CALNAME:Municipalidad Provincial de Islay
X-ORIGINAL-URL:https://munimollendo.gob.pe
X-WR-CALDESC:Eventos para Municipalidad Provincial de Islay
BEGIN:VTIMEZONE
TZID:America/Lima
BEGIN:STANDARD
TZOFFSETFROM:-0500
TZOFFSETTO:-0500
TZNAME:-05
DTSTART:20200101T000000
END:STANDARD
END:VTIMEZONE
BEGIN:VEVENT
DTSTART;TZID=America/Lima:20200111T180000
DTEND;TZID=America/Lima:20200111T180000
DTSTAMP:20260423T230606
CREATED:20200818T205218Z
LAST-MODIFIED:20200818T205218Z
UID:6702-1578765600-1578765600@munimollendo.gob.pe
SUMMARY:CORSO DE LA AMISTAD MOLLENDO
DESCRIPTION:CORSO DE LA AMISTAD MOLLENDO \n
URL:https://munimollendo.gob.pe/agenda/corso-de-la-amistad-mollendo/
LOCATION:Mollendo\, Mollendo\, Islay\, Perú
END:VEVENT
END:VCALENDAR