BEGIN:VCALENDAR
VERSION:2.0
PRODID:-//Municipalidad Provincial de Islay - ECPv5.1.5//NONSGML v1.0//EN
CALSCALE:GREGORIAN
METHOD:PUBLISH
X-WR-CALNAME:Municipalidad Provincial de Islay
X-ORIGINAL-URL:https://munimollendo.gob.pe
X-WR-CALDESC:Eventos para Municipalidad Provincial de Islay
BEGIN:VTIMEZONE
TZID:America/Lima
BEGIN:STANDARD
TZOFFSETFROM:-0500
TZOFFSETTO:-0500
TZNAME:-05
DTSTART:20200101T000000
END:STANDARD
END:VTIMEZONE
BEGIN:VEVENT
DTSTART;TZID=America/Lima:20200328T162400
DTEND;TZID=America/Lima:20200328T170000
DTSTAMP:20260424T053344
CREATED:20200818T223000Z
LAST-MODIFIED:20200818T223000Z
UID:6801-1585412640-1585414800@munimollendo.gob.pe
SUMMARY:CONFERENCIA DE PRESNSA SOBRE PRESUPUESTO ASIGNADO PARA QUE LA MPI ISLAY REALICE COMPRA DE VIVERES PARA LA POBLACIÓN VULNERABLE
DESCRIPTION:CONFERENCIA DE PRESNSA SOBRE PRESUPUESTO ASIGNADO PARA QUE LA MPI ISLAY REALICE COMPRA DE VIVERES PARA LA POBLACIÓN VULNERABLE \n
URL:https://munimollendo.gob.pe/agenda/conferencia-de-presnsa-sobre-presupuesto-asignado-para-que-la-mpi-islay-realice-compra-de-viveres-para-la-poblacion-vulnerable/
LOCATION:Estación Cultural\, Mollendo\, Islay\, Perú
END:VEVENT
END:VCALENDAR