BEGIN:VCALENDAR
VERSION:2.0
PRODID:-//Municipalidad Provincial de Islay - ECPv5.1.5//NONSGML v1.0//EN
CALSCALE:GREGORIAN
METHOD:PUBLISH
X-WR-CALNAME:Municipalidad Provincial de Islay
X-ORIGINAL-URL:https://munimollendo.gob.pe
X-WR-CALDESC:Eventos para Municipalidad Provincial de Islay
BEGIN:VTIMEZONE
TZID:America/Lima
BEGIN:STANDARD
TZOFFSETFROM:-0500
TZOFFSETTO:-0500
TZNAME:-05
DTSTART:20200101T000000
END:STANDARD
END:VTIMEZONE
BEGIN:VEVENT
DTSTART;TZID=America/Lima:20201215T093000
DTEND;TZID=America/Lima:20201215T103000
DTSTAMP:20260425T183328
CREATED:20210108T145536Z
LAST-MODIFIED:20210108T145536Z
UID:8848-1608024600-1608028200@munimollendo.gob.pe
SUMMARY:CEREMONIA EN LA ESTACION CULTURAL DE AGRICULTORES QUE FUERON APOYADOS POR LA EMPRESA SAMAY Y LA MUNICIPALIDAD PROVINCIAL DE ISLAY PARA SACAR ADELANTE SU PROYECTO
DESCRIPTION:CEREMONIA EN LA ESTACION CULTURAL DE AGRICULTORES QUE FUERON APOYADOS POR LA EMPRESA SAMAY Y LA MUNICIPALIDAD PROVINCIAL DE ISLAY PARA SACAR ADELANTE SU PROYECTO \n
URL:https://munimollendo.gob.pe/agenda/ceremonia-en-la-estacion-cultural-de-agricultores-que-fueron-apoyados-por-la-empresa-samay-y-la-municipalidad-provincial-de-islay-para-sacar-adelante-su-proyecto/
END:VEVENT
END:VCALENDAR