BEGIN:VCALENDAR
VERSION:2.0
PRODID:-//Municipalidad Provincial de Islay - ECPv5.1.5//NONSGML v1.0//EN
CALSCALE:GREGORIAN
METHOD:PUBLISH
X-WR-CALNAME:Municipalidad Provincial de Islay
X-ORIGINAL-URL:https://munimollendo.gob.pe
X-WR-CALDESC:Eventos para Municipalidad Provincial de Islay
BEGIN:VTIMEZONE
TZID:America/Lima
BEGIN:STANDARD
TZOFFSETFROM:-0500
TZOFFSETTO:-0500
TZNAME:-05
DTSTART:20190101T000000
END:STANDARD
END:VTIMEZONE
BEGIN:VEVENT
DTSTART;TZID=America/Lima:20190206T110000
DTEND;TZID=America/Lima:20190206T130000
DTSTAMP:20260425T231714
CREATED:20191022T151346Z
LAST-MODIFIED:20191022T151433Z
UID:3661-1549450800-1549458000@munimollendo.gob.pe
SUMMARY:Capacitación dirigida a conductores de establecimientos que expenden comida en Mollendo.
DESCRIPTION:Capacitación dirigida a conductores de establecimientos que expenden comida en Mollendo. \n
URL:https://munimollendo.gob.pe/agenda/capacitacion-dirigida-a-conductores-de-establecimientos-que-expenden-comida-en-mollendo/
LOCATION:Estación Cultural\, Mollendo\, Islay\, Perú
END:VEVENT
END:VCALENDAR