BEGIN:VCALENDAR
VERSION:2.0
PRODID:-//Municipalidad Provincial de Islay - ECPv5.1.5//NONSGML v1.0//EN
CALSCALE:GREGORIAN
METHOD:PUBLISH
X-WR-CALNAME:Municipalidad Provincial de Islay
X-ORIGINAL-URL:https://munimollendo.gob.pe
X-WR-CALDESC:Eventos para Municipalidad Provincial de Islay
BEGIN:VTIMEZONE
TZID:America/Lima
BEGIN:STANDARD
TZOFFSETFROM:-0500
TZOFFSETTO:-0500
TZNAME:-05
DTSTART:20210101T000000
END:STANDARD
END:VTIMEZONE
BEGIN:VEVENT
DTSTART;TZID=America/Lima:20210531T100000
DTEND;TZID=America/Lima:20210531T170000
DTSTAMP:20260425T200531
CREATED:20210617T170104Z
LAST-MODIFIED:20210617T170104Z
UID:10515-1622455200-1622480400@munimollendo.gob.pe
SUMMARY:CEREMONIA DE PREMIACION DEL ISOLOGO GANADOR MARCA MOLLENDO
DESCRIPTION:CEREMONIA DE PREMIACION DEL ISOLOGO GANADOR MARCA MOLLENDO \n
URL:https://munimollendo.gob.pe/agenda/ceremonia-de-premiacion-del-isologo-ganador-marca-mollendo/
LOCATION:Estación Cultural\, Mollendo\, Islay\, Perú
END:VEVENT
BEGIN:VEVENT
DTSTART;TZID=America/Lima:20210601T100000
DTEND;TZID=America/Lima:20210702T170000
DTSTAMP:20260425T200531
CREATED:20210617T170211Z
LAST-MODIFIED:20210617T170211Z
UID:10517-1622541600-1625245200@munimollendo.gob.pe
SUMMARY:VAIJE A PUNO ORGANIZADO POR EL GOBIERNO REGIONAL\, PARA LA REACTIVACION TURISTICA DE LA PROVINCIA\, PROGRAMA "AREQUIPA TE ESPERA"
DESCRIPTION:VAIJE A PUNO ORGANIZADO POR EL GOBIERNO REGIONAL\, PARA LA REACTIVACION TURISTICA DE LA PROVINCIA\, PROGRAMA “AREQUIPA TE ESPERA” \n
URL:https://munimollendo.gob.pe/agenda/vaije-a-puno-organizado-por-el-gobierno-regional-para-la-reactivacion-turistica-de-la-provincia-programa-arequipa-te-espera/
LOCATION:Puno
END:VEVENT
BEGIN:VEVENT
DTSTART;TZID=America/Lima:20210603T120000
DTEND;TZID=America/Lima:20210603T170000
DTSTAMP:20260425T200531
CREATED:20210617T170258Z
LAST-MODIFIED:20210617T170258Z
UID:10520-1622721600-1622739600@munimollendo.gob.pe
SUMMARY:JURAMENTACION DEL MUNICIPIO ESCOLAR DEL COLEGIO SAN FRANCISCO DE ASIS
DESCRIPTION:JURAMENTACION DEL MUNICIPIO ESCOLAR DEL COLEGIO SAN FRANCISCO DE ASIS \n
URL:https://munimollendo.gob.pe/agenda/juramentacion-del-municipio-escolar-del-colegio-san-francisco-de-asis/
LOCATION:Virtual
END:VEVENT
BEGIN:VEVENT
DTSTART;TZID=America/Lima:20210604T140000
DTEND;TZID=America/Lima:20210604T170000
DTSTAMP:20260425T200531
CREATED:20210617T170339Z
LAST-MODIFIED:20210617T170339Z
UID:10522-1622815200-1622826000@munimollendo.gob.pe
SUMMARY:RUENION CON EL COER AREQUIPA Y LA SUBGERENCIA DE GESTION DE RIESGO DE DESASTRES
DESCRIPTION:RUENION CON EL COER AREQUIPA Y LA SUBGERENCIA DE GESTION DE RIESGO DE DESASTRES \n
URL:https://munimollendo.gob.pe/agenda/ruenion-con-el-coer-arequipa-y-la-subgerencia-de-gestion-de-riesgo-de-desastres/
LOCATION:Virtual
END:VEVENT
BEGIN:VEVENT
DTSTART;TZID=America/Lima:20210607T110000
DTEND;TZID=America/Lima:20210607T170000
DTSTAMP:20260425T200531
CREATED:20210617T170426Z
LAST-MODIFIED:20210617T170426Z
UID:10524-1623063600-1623085200@munimollendo.gob.pe
SUMMARY:REUNION VIRTUAL CON LA UN SA
DESCRIPTION:REUNION VIRTUAL CON LA UN SA \n
URL:https://munimollendo.gob.pe/agenda/reunion-virtual-con-la-un-sa/
LOCATION:Virtual
END:VEVENT
BEGIN:VEVENT
DTSTART;TZID=America/Lima:20210608T100000
DTEND;TZID=America/Lima:20210608T170000
DTSTAMP:20260425T200531
CREATED:20210617T170513Z
LAST-MODIFIED:20210617T170513Z
UID:10526-1623146400-1623171600@munimollendo.gob.pe
SUMMARY:REUNION CON EL DR. NESTOR MONTESINOS PARA COORDINAR ACCIONES EN CONJUNTO PARA TRABAJAR EN ATENCIONES A PACIENTES COVID
DESCRIPTION:REUNION CON EL DR. NESTOR MONTESINOS PARA COORDINAR ACCIONES EN CONJUNTO PARA TRABAJAR EN ATENCIONES A PACIENTES COVID \n
URL:https://munimollendo.gob.pe/agenda/reunion-con-el-dr-nestor-montesinos-para-coordinar-acciones-en-conjunto-para-trabajar-en-atenciones-a-pacientes-covid/
LOCATION:Oficina de Alcaldia\, Jirón Arequipa No. 261\,\, Mollendo\, Islay\, Perú
END:VEVENT
BEGIN:VEVENT
DTSTART;TZID=America/Lima:20210609T103000
DTEND;TZID=America/Lima:20210609T170000
DTSTAMP:20260425T200531
CREATED:20210617T170544Z
LAST-MODIFIED:20210617T170544Z
UID:10528-1623234600-1623258000@munimollendo.gob.pe
SUMMARY:REUNIONES VARIAS
DESCRIPTION:REUNIONES VARIAS \n
URL:https://munimollendo.gob.pe/agenda/reuniones-varias-57/
END:VEVENT
BEGIN:VEVENT
DTSTART;TZID=America/Lima:20210610T080000
DTEND;TZID=America/Lima:20210610T170000
DTSTAMP:20260425T200531
CREATED:20210617T170715Z
LAST-MODIFIED:20210617T170715Z
UID:10530-1623312000-1623344400@munimollendo.gob.pe
SUMMARY:REUNION CON LOS SEÑORES DE LA CENTRAL AZUCARERA DE CHUCARAPI\, PABLO DE LA PEÑA
DESCRIPTION:REUNION CON LOS SEÑORES DE LA CENTRAL AZUCARERA DE CHUCARAPI\, PABLO DE LA PEÑA \n
URL:https://munimollendo.gob.pe/agenda/reunion-con-los-senores-de-la-central-azucarera-de-chucarapi-pablo-de-la-pena/
LOCATION:Oficina de Alcaldia\, Jirón Arequipa No. 261\,\, Mollendo\, Islay\, Perú
END:VEVENT
BEGIN:VEVENT
DTSTART;TZID=America/Lima:20210611T080000
DTEND;TZID=America/Lima:20210611T170000
DTSTAMP:20260425T200531
CREATED:20210617T170753Z
LAST-MODIFIED:20210617T170753Z
UID:10532-1623398400-1623430800@munimollendo.gob.pe
SUMMARY:VIAJE A ICA ORGANIZADO POR EL GOBIERNO REGIONAL PARA LA REACTIVACION DEL TURISMO EN LAS PROVINCIAS DE LA REGION AREQUIPA CON EL PROGRAMA "AREQUIPA TE ESPERA"
DESCRIPTION:VIAJE A ICA ORGANIZADO POR EL GOBIERNO REGIONAL PARA LA REACTIVACION DEL TURISMO EN LAS PROVINCIAS DE LA REGION AREQUIPA CON EL PROGRAMA “AREQUIPA TE ESPERA” \n
URL:https://munimollendo.gob.pe/agenda/viaje-a-ica-organizado-por-el-gobierno-regional-para-la-reactivacion-del-turismo-en-las-provincias-de-la-region-arequipa-con-el-programa-arequipa-te-espera/
LOCATION:Ica
END:VEVENT
BEGIN:VEVENT
DTSTART;TZID=America/Lima:20210612T080000
DTEND;TZID=America/Lima:20210612T170000
DTSTAMP:20260425T200531
CREATED:20210617T170835Z
LAST-MODIFIED:20210617T170835Z
UID:10535-1623484800-1623517200@munimollendo.gob.pe
SUMMARY:VIAJE A ICA ORGANIZADO POR EL GOBIERNO REGIONAL PARA LA REACTIVACION DEL TURISMO EN LAS PROVINCIAS DE LA REGION AREQUIPA CON EL PROGRAMA "AREQUIPA TE ESPERA"
DESCRIPTION:VIAJE A ICA ORGANIZADO POR EL GOBIERNO REGIONAL PARA LA REACTIVACION DEL TURISMO EN LAS PROVINCIAS DE LA REGION AREQUIPA CON EL PROGRAMA “AREQUIPA TE ESPERA” \n
URL:https://munimollendo.gob.pe/agenda/viaje-a-ica-organizado-por-el-gobierno-regional-para-la-reactivacion-del-turismo-en-las-provincias-de-la-region-arequipa-con-el-programa-arequipa-te-espera-2/
LOCATION:Ica
END:VEVENT
BEGIN:VEVENT
DTSTART;TZID=America/Lima:20210614T080000
DTEND;TZID=America/Lima:20210614T170000
DTSTAMP:20260425T200531
CREATED:20210617T170910Z
LAST-MODIFIED:20210617T170910Z
UID:10537-1623657600-1623690000@munimollendo.gob.pe
SUMMARY:VISITA A LAS OBRAS QUE SE ESTAN REALIZANDO INGRESO A MOLLENDO\, CALLE PUNO\, CALLE ISLAY\, ACTIVIDAD EN EL MUELLE TURISTICO Y MALECON RATTY CON TRABAJA PERU\, INAGURACION DE LA ACTIVIDAD DE MANTENIMIENTO DEL PARQUE DEL INCLAN CON TRABAJA PERU
DESCRIPTION:VISITA A LAS OBRAS QUE SE ESTAN REALIZANDO INGRESO A MOLLENDO\, CALLE PUNO\, CALLE ISLAY\, ACTIVIDAD EN EL MUELLE TURISTICO Y MALECON RATTY CON TRABAJA PERU\, INAGURACION DE LA ACTIVIDAD DE MANTENIMIENTO DEL PARQUE DEL INCLAN CON TRABAJA PERU \n
URL:https://munimollendo.gob.pe/agenda/visita-a-las-obras-que-se-estan-realizando-ingreso-a-mollendo-calle-puno-calle-islay-actividad-en-el-muelle-turistico-y-malecon-ratty-con-trabaja-peru-inaguracion-de-la-actividad-de-mantenimiento/
LOCATION:Mollendo\, Mollendo\, Islay\, Perú
END:VEVENT
BEGIN:VEVENT
DTSTART;TZID=America/Lima:20210615T090000
DTEND;TZID=America/Lima:20210615T170000
DTSTAMP:20260425T200531
CREATED:20210617T170947Z
LAST-MODIFIED:20210617T170947Z
UID:10539-1623747600-1623776400@munimollendo.gob.pe
SUMMARY:REUNION EN LIMA EN EL CENTRO DE CONVENCIONES DE LIMA\, PARA VER LO CORRESPONDIENTE A LA DECLARATORIA DE EMERGENCIA POR CONTAMINACION HIDRICA DEL VALLE DE TAMBO
DESCRIPTION:REUNION EN LIMA EN EL CENTRO DE CONVENCIONES DE LIMA\, PARA VER LO CORRESPONDIENTE A LA DECLARATORIA DE EMERGENCIA POR CONTAMINACION HIDRICA DEL VALLE DE TAMBO \n
URL:https://munimollendo.gob.pe/agenda/reunion-en-lima-en-el-centro-de-convenciones-de-lima-para-ver-lo-correspondiente-a-la-declaratoria-de-emergencia-por-contaminacion-hidrica-del-valle-de-tambo/
LOCATION:LIMA
END:VEVENT
BEGIN:VEVENT
DTSTART;TZID=America/Lima:20210615T090000
DTEND;TZID=America/Lima:20210615T150000
DTSTAMP:20260425T200531
CREATED:20210630T172715Z
LAST-MODIFIED:20210630T172715Z
UID:10603-1623747600-1623769200@munimollendo.gob.pe
SUMMARY:REUNION CON EL DIRECTOR DEL PLAN COPESCO
DESCRIPTION:REUNION CON EL DIRECTOR DEL PLAN COPESCO \n
URL:https://munimollendo.gob.pe/agenda/reunion-con-el-director-del-plan-copesco/
LOCATION:Ministerio de Comercio Exterior y Turismo
END:VEVENT
BEGIN:VEVENT
DTSTART;TZID=America/Lima:20210615T173000
DTEND;TZID=America/Lima:20210615T173000
DTSTAMP:20260425T200531
CREATED:20210630T172812Z
LAST-MODIFIED:20210630T172812Z
UID:10606-1623778200-1623778200@munimollendo.gob.pe
SUMMARY:SESION DE CONCEJO ORDINARIA
DESCRIPTION:SESION DE CONCEJO ORDINARIA \n
URL:https://munimollendo.gob.pe/agenda/sesion-de-concejo-ordinaria-22/
LOCATION:Virtual
END:VEVENT
BEGIN:VEVENT
DTSTART;TZID=America/Lima:20210616T080000
DTEND;TZID=America/Lima:20210616T170000
DTSTAMP:20260425T200531
CREATED:20210630T172847Z
LAST-MODIFIED:20210630T172847Z
UID:10608-1623830400-1623862800@munimollendo.gob.pe
SUMMARY:COORDINACIONES EN LA CIUDAD DE LIMA LUEGO DE LAS REUNIONES SOSTENIDAS CON LOS MINISTROS Y EL DIRECTOR DE COPESCO
DESCRIPTION:COORDINACIONES EN LA CIUDAD DE LIMA LUEGO DE LAS REUNIONES SOSTENIDAS CON LOS MINISTROS Y EL DIRECTOR DE COPESCO \n
URL:https://munimollendo.gob.pe/agenda/coordinaciones-en-la-ciudad-de-lima-luego-de-las-reuniones-sostenidas-con-los-ministros-y-el-director-de-copesco/
END:VEVENT
BEGIN:VEVENT
DTSTART;TZID=America/Lima:20210617T080000
DTEND;TZID=America/Lima:20210617T170000
DTSTAMP:20260425T200531
CREATED:20210630T172927Z
LAST-MODIFIED:20210630T172927Z
UID:10610-1623916800-1623949200@munimollendo.gob.pe
SUMMARY:REUNIONES INTERNAS VARIAS
DESCRIPTION:REUNIONES INTERNAS VARIAS \n
URL:https://munimollendo.gob.pe/agenda/reuniones-internas-varias-19/
END:VEVENT
BEGIN:VEVENT
DTSTART;TZID=America/Lima:20210618T080000
DTEND;TZID=America/Lima:20210618T170000
DTSTAMP:20260425T200531
CREATED:20210630T172950Z
LAST-MODIFIED:20210630T172950Z
UID:10612-1624003200-1624035600@munimollendo.gob.pe
SUMMARY:REUNIONES INTERNAS VARIAS
DESCRIPTION:REUNIONES INTERNAS VARIAS \n
URL:https://munimollendo.gob.pe/agenda/reuniones-internas-varias-20/
END:VEVENT
BEGIN:VEVENT
DTSTART;TZID=America/Lima:20210619T100000
DTEND;TZID=America/Lima:20210619T170000
DTSTAMP:20260425T200531
CREATED:20210630T173023Z
LAST-MODIFIED:20210630T173023Z
UID:10614-1624096800-1624122000@munimollendo.gob.pe
SUMMARY:DEMOSTRACION FRENTE AL CASTILLO FORGA DE LAS EMPRESAS QUE LLEVAN LOS PRODUCTOS DE LA PROVINCIA DE ISLAY EN LA CAMPAÑA "AREQUIPA TE ESPERA"
DESCRIPTION:DEMOSTRACION FRENTE AL CASTILLO FORGA DE LAS EMPRESAS QUE LLEVAN LOS PRODUCTOS DE LA PROVINCIA DE ISLAY EN LA CAMPAÑA “AREQUIPA TE ESPERA” \n
URL:https://munimollendo.gob.pe/agenda/demostracion-frente-al-castillo-forga-de-las-empresas-que-llevan-los-productos-de-la-provincia-de-islay-en-la-campana-arequipa-te-espera/
END:VEVENT
BEGIN:VEVENT
DTSTART;TZID=America/Lima:20210621T090000
DTEND;TZID=America/Lima:20210621T170000
DTSTAMP:20260425T200531
CREATED:20210630T173052Z
LAST-MODIFIED:20210630T173052Z
UID:10616-1624266000-1624294800@munimollendo.gob.pe
SUMMARY:REUNION DE MESA DE TRABAJO\, CON LA MUNICIPALIDAD DE GENERAL SANCHEZ CERRO\, REFERENTE A LA CONTAMINACION DEL RIO TAMBO
DESCRIPTION:REUNION DE MESA DE TRABAJO\, CON LA MUNICIPALIDAD DE GENERAL SANCHEZ CERRO\, REFERENTE A LA CONTAMINACION DEL RIO TAMBO \n
URL:https://munimollendo.gob.pe/agenda/reunion-de-mesa-de-trabajo-con-la-municipalidad-de-general-sanchez-cerro-referente-a-la-contaminacion-del-rio-tambo/
END:VEVENT
BEGIN:VEVENT
DTSTART;TZID=America/Lima:20210622T100000
DTEND;TZID=America/Lima:20210630T170000
DTSTAMP:20260425T200531
CREATED:20210630T173327Z
LAST-MODIFIED:20210630T173327Z
UID:10618-1624356000-1625072400@munimollendo.gob.pe
SUMMARY:REUNION CON LOS SEÑORES DE SENASA PARA FIRMAR ACTA DE COMPROMISO PARA AUNAR ESFUERZOS E IMPULSAR MEJORAS QUE CONTRIBUYAN AL TRATAMIENTO DE ALIMENTOS QUE SE PROCESAN EN EL MATADERO O CAMAL MUNICIPAL
DESCRIPTION:REUNION CON LOS SEÑORES DE SENASA PARA FIRMAR ACTA DE COMPROMISO PARA AUNAR ESFUERZOS E IMPULSAR MEJORAS QUE CONTRIBUYAN AL TRATAMIENTO DE ALIMENTOS QUE SE PROCESAN EN EL MATADERO O CAMAL MUNICIPAL \n
URL:https://munimollendo.gob.pe/agenda/reunion-con-los-senores-de-senasa-para-firmar-acta-de-compromiso-para-aunar-esfuerzos-e-impulsar-mejoras-que-contribuyan-al-tratamiento-de-alimentos-que-se-procesan-en-el-matadero-o-camal-municipal/
END:VEVENT
BEGIN:VEVENT
DTSTART;TZID=America/Lima:20210622T170000
DTEND;TZID=America/Lima:20210622T170000
DTSTAMP:20260425T200531
CREATED:20210630T173812Z
LAST-MODIFIED:20210630T173812Z
UID:10620-1624381200-1624381200@munimollendo.gob.pe
SUMMARY:REUNION VIRTUAL CON KALLPA SOBRE "MEJORAMIENTO DEL SERVICIO DE TRANSITABILIDAD VEHICULAR Y PEATONAL DE LA VIA DEL CIRCUITO DE PLAYAS\, TRAMO TERCERA Y CUARTA PLAYA DEL DISTRITO DE MOLLENDO\, PROVINCIA DE ISLAY
DESCRIPTION:REUNION VIRTUAL CON KALLPA SOBRE “MEJORAMIENTO DEL SERVICIO DE TRANSITABILIDAD VEHICULAR Y PEATONAL DE LA VIA DEL CIRCUITO DE PLAYAS\, TRAMO TERCERA Y CUARTA PLAYA DEL DISTRITO DE MOLLENDO\, PROVINCIA DE ISLAY \n
URL:https://munimollendo.gob.pe/agenda/reunion-virtual-con-kallpa-sobre-mejoramiento-del-servicio-de-transitabilidad-vehicular-y-peatonal-de-la-via-del-circuito-de-playas-tramo-tercera-y-cuarta-playa-del-distrito-de-mollendo-provincia/
LOCATION:Virtual
END:VEVENT
BEGIN:VEVENT
DTSTART;TZID=America/Lima:20210623T100000
DTEND;TZID=America/Lima:20210623T170000
DTSTAMP:20260425T200531
CREATED:20210630T173858Z
LAST-MODIFIED:20210630T173858Z
UID:10622-1624442400-1624467600@munimollendo.gob.pe
SUMMARY:REUNION DE PLATAFORMA DE DEFENSA CIVIL PARA COORDINAR EL SIMULACRO DEL 29/06
DESCRIPTION:REUNION DE PLATAFORMA DE DEFENSA CIVIL PARA COORDINAR EL SIMULACRO DEL 29/06 \n
URL:https://munimollendo.gob.pe/agenda/reunion-de-plataforma-de-defensa-civil-para-coordinar-el-simulacro-del-29-06/
LOCATION:Virtual
END:VEVENT
BEGIN:VEVENT
DTSTART;TZID=America/Lima:20210623T170000
DTEND;TZID=America/Lima:20210623T170000
DTSTAMP:20260425T200531
CREATED:20210630T173932Z
LAST-MODIFIED:20210630T173932Z
UID:10624-1624467600-1624467600@munimollendo.gob.pe
SUMMARY:JORNADA DE ACTUALIZACION EN CONTROL GUBERNAMENTAL PARA GOBIERNOS LOCALES DE AREQUIPA Y CRAA.
DESCRIPTION:JORNADA DE ACTUALIZACION EN CONTROL GUBERNAMENTAL PARA GOBIERNOS LOCALES DE AREQUIPA Y CRAA. \n
URL:https://munimollendo.gob.pe/agenda/jornada-de-actualizacion-en-control-gubernamental-para-gobiernos-locales-de-arequipa-y-craa/
LOCATION:Virtual
END:VEVENT
BEGIN:VEVENT
DTSTART;TZID=America/Lima:20210624T080000
DTEND;TZID=America/Lima:20210624T170000
DTSTAMP:20260425T200531
CREATED:20210630T173955Z
LAST-MODIFIED:20210630T173955Z
UID:10626-1624521600-1624554000@munimollendo.gob.pe
SUMMARY:REUNIONES INTERNAS VARIAS
DESCRIPTION:REUNIONES INTERNAS VARIAS \n
URL:https://munimollendo.gob.pe/agenda/reuniones-internas-varias-21/
END:VEVENT
BEGIN:VEVENT
DTSTART;TZID=America/Lima:20210625T110000
DTEND;TZID=America/Lima:20210625T150000
DTSTAMP:20260425T200531
CREATED:20210630T174056Z
LAST-MODIFIED:20210630T174056Z
UID:10628-1624618800-1624633200@munimollendo.gob.pe
SUMMARY:REUNION CON CONSTRUCCION CIVIL PARA VER LO RELACIONADO AL LOCAL DEL CONAFOVICER
DESCRIPTION:REUNION CON CONSTRUCCION CIVIL PARA VER LO RELACIONADO AL LOCAL DEL CONAFOVICER \n
URL:https://munimollendo.gob.pe/agenda/reunion-con-construccion-civil-para-ver-lo-relacionado-al-local-del-conafovicer/
LOCATION:Oficina Gerencia Municipal\, Jirón Arequipa No. 261\,\, Mollendo\, Islay\, Perú
END:VEVENT
BEGIN:VEVENT
DTSTART;TZID=America/Lima:20210625T150000
DTEND;TZID=America/Lima:20210625T170000
DTSTAMP:20260425T200531
CREATED:20210630T174142Z
LAST-MODIFIED:20210630T174142Z
UID:10630-1624633200-1624640400@munimollendo.gob.pe
SUMMARY:REUNION DE COPROSEC
DESCRIPTION:REUNION DE COPROSEC \n
URL:https://munimollendo.gob.pe/agenda/reunion-de-coprosec-2/
LOCATION:Estación Cultural\, Mollendo\, Islay\, Perú
END:VEVENT
BEGIN:VEVENT
DTSTART;TZID=America/Lima:20210628T080000
DTEND;TZID=America/Lima:20210628T170000
DTSTAMP:20260425T200531
CREATED:20210630T174202Z
LAST-MODIFIED:20210630T174202Z
UID:10632-1624867200-1624899600@munimollendo.gob.pe
SUMMARY:REUNIONES VARIAS
DESCRIPTION:REUNIONES VARIAS \n
URL:https://munimollendo.gob.pe/agenda/reuniones-varias-58/
END:VEVENT
END:VCALENDAR